BEGIN:VCALENDAR
VERSION:2.0
PRODID:-//Squarespace Inc/Squarespace 6//v6//EN
BEGIN:VEVENT
UID:5cea5ef3f9619a25f95f28e0@squarespace.com
DTSTAMP:20190526T094445Z
DTSTART:20190609T100000Z
DTEND:20190609T134500Z
SUMMARY:Henry's Roof\, Hotel Steyne
GEO:-33.796913;151.287511
LOCATION:Hotel Steyne\, 75 The Corso\, Manly\, NSW\, 2095\, Australia
END:VEVENT
END:VCALENDAR
