BEGIN:VCALENDAR
VERSION:2.0
PRODID:-//Squarespace Inc/Squarespace 6//v6//EN
BEGIN:VEVENT
UID:5b701ed970a6ad48d1a636ba@squarespace.com
DTSTAMP:20180812T115136Z
DTSTART:20180927T100000Z
DTEND:20180927T134500Z
SUMMARY:LazyBones
END:VEVENT
END:VCALENDAR
