BEGIN:VCALENDAR
VERSION:2.0
PRODID:-//Squarespace Inc/Squarespace 6//v6//EN
BEGIN:VEVENT
UID:5b701e75cd83663481c71584@squarespace.com
DTSTAMP:20180817T030433Z
DTSTART:20180818T080000Z
DTEND:20180818T103000Z
SUMMARY:Addison Road Night Markets
GEO:-33.901336;151.16123
LOCATION:Addison Road Community Centre\, Addison Road\, Marrickville\, NSW\
 , 2204\, Australia
END:VEVENT
END:VCALENDAR
