BEGIN:VCALENDAR
VERSION:2.0
PRODID:-//Squarespace Inc/Squarespace 6//v6//EN
BEGIN:VEVENT
UID:5b701d88032be42d1406d314@squarespace.com
DTSTAMP:20180812T114748Z
DTSTART:20180817T120000Z
DTEND:20180817T150000Z
SUMMARY:The Townie
GEO:-33.901507;151.178761
LOCATION:The Townie\, King Street\, Newtown\, NSW\, 2042\, Australia
END:VEVENT
END:VCALENDAR
