BEGIN:VCALENDAR
VERSION:2.0
PRODID:-//Squarespace Inc/Squarespace 6//v6//EN
BEGIN:VEVENT
UID:5a7590a8c830259c538ac92e@squarespace.com
DTSTAMP:20180203T104113Z
DTSTART:20180603T063000Z
DTEND:20180603T113000Z
SUMMARY:Marrickville Bolwo
GEO:-33.910547;151.164166
LOCATION:Marrickville Bowlo\, 91 Sydenham Road\, Marrickville\, NSW\, 2204\
 , Australia
END:VEVENT
END:VCALENDAR
