BEGIN:VCALENDAR
VERSION:2.0
PRODID:-//Squarespace Inc/Squarespace 6//v6//EN
BEGIN:VEVENT
UID:5a758f20e2c4831a616bf8c4@squarespace.com
DTSTAMP:20180206T095606Z
DTSTART:20180510T103000Z
DTEND:20180510T133000Z
SUMMARY:Lazybones
GEO:-33.910791;151.156382
LOCATION:lazybones\, 294 Marrickville Road\, Marrickville\, NSW\, 2204\, Au
 stralia
END:VEVENT
END:VCALENDAR
