BEGIN:VCALENDAR
VERSION:2.0
PRODID:-//Squarespace Inc/Squarespace 6//v6//EN
BEGIN:VEVENT
UID:5a211726e4966be2ad827ac6@squarespace.com
DTSTAMP:20171201T085251Z
DTSTART:20180302T110000Z
DTEND:20180302T125900Z
SUMMARY:The Townie
GEO:-33.896154;151.180566
LOCATION:The Townie\, King street\, Newtown\, Australia
END:VEVENT
END:VCALENDAR
