BEGIN:VCALENDAR
VERSION:2.0
PRODID:-//Squarespace Inc/Squarespace 6//v6//EN
BEGIN:VEVENT
UID:5b9a57f14d7a9ce10e186f03@squarespace.com
DTSTAMP:20181013T045419Z
DTSTART:20181111T093000Z
DTEND:20181111T123000Z
SUMMARY:Henrys Rooftop\, Hotel Steyne
END:VEVENT
END:VCALENDAR
