BEGIN:VCALENDAR
VERSION:2.0
PRODID:-//Squarespace Inc/Squarespace 6//v6//EN
BEGIN:VEVENT
UID:5b701f60b8a0453701a5d82a@squarespace.com
DTSTAMP:20181015T101613Z
DTSTART:20181021T020000Z
DTEND:20181021T030000Z
SUMMARY:MARRICKVILLE FESTIVAL
GEO:-33.909108;151.153346
LOCATION:MARRICKVILLE FESTIVAL\, Marrickville Road\, Marrickville\, NSW\, 2
 204\, Australia
END:VEVENT
END:VCALENDAR
