BEGIN:VCALENDAR
VERSION:2.0
PRODID:-//Squarespace Inc/Squarespace 6//v6//EN
BEGIN:VEVENT
UID:5a7042b4419202410e86bb56@squarespace.com
DTSTAMP:20180130T100635Z
DTSTART:20180520T110000Z
DTEND:20180520T130000Z
SUMMARY:Moonshine\, Hotel Steyne
GEO:-33.806016;151.294778
LOCATION:Hotel Steyne\, Manly\, Australia
END:VEVENT
END:VCALENDAR
