BEGIN:VCALENDAR
VERSION:2.0
PRODID:-//Squarespace Inc/Squarespace 6//v6//EN
BEGIN:VEVENT
UID:5a1654e6085229dccc25bba8@squarespace.com
DTSTAMP:20171123T045941Z
DTSTART:20180128T080000Z
DTEND:20180128T110000Z
SUMMARY:Moonshine\, Hotel Steyne
END:VEVENT
END:VCALENDAR
