BEGIN:VCALENDAR
VERSION:2.0
PRODID:-//Squarespace Inc/Squarespace 6//v6//EN
BEGIN:VEVENT
UID:5a113b8ff9619a64a2d3e5c4@squarespace.com
DTSTAMP:20171119T081308Z
DTSTART:20180120T063000Z
DTEND:20180121T073000Z
SUMMARY:Illawarra Folk Festival 2018
GEO:-34.334167;150.913333
LOCATION:Bulli Showground\, Bulli\, Australia
END:VEVENT
END:VCALENDAR
