BEGIN:VCALENDAR
VERSION:2.0
PRODID:-//Squarespace Inc/Squarespace 6//v6//EN
BEGIN:VEVENT
UID:599f6a58ccc5c58f6c3c62a9@squarespace.com
DTSTAMP:20170825T001035Z
DTSTART:20170918T100000Z
DTEND:20170918T130000Z
SUMMARY:Beat Bar
END:VEVENT
END:VCALENDAR
