BEGIN:VCALENDAR
VERSION:2.0
PRODID:-//Squarespace Inc/Squarespace 6//v6//EN
BEGIN:VEVENT
UID:599f6986e9bfdfb6ad1a4e5b@squarespace.com
DTSTAMP:20170825T001133Z
DTSTART:20170826T100000Z
DTEND:20170826T130000Z
SUMMARY:Avalon Bowlo Greens Party
END:VEVENT
END:VCALENDAR
