BEGIN:VCALENDAR
VERSION:2.0
PRODID:-//Squarespace Inc/Squarespace 6//v6//EN
BEGIN:VEVENT
UID:5950fb2b099c01a39eee33ec@squarespace.com
DTSTAMP:20170626T122208Z
DTSTART:20170701T100000Z
DTEND:20170701T133000Z
SUMMARY:The Beat Bar
GEO:-33.87384;151.223811
LOCATION:The Beat Bar\, 42 Darlinghurst Road\, Potts Point\, NSW\, 2011\, A
 ustralia
END:VEVENT
END:VCALENDAR
