BEGIN:VCALENDAR
VERSION:2.0
PRODID:-//Squarespace Inc/Squarespace 6//v6//EN
BEGIN:VEVENT
UID:58ce59481b10e37dbd6b8d14@squarespace.com
DTSTAMP:20170319T101505Z
DTSTART:20170527T100000Z
DTEND:20170527T133000Z
SUMMARY:Album Launch @ Django Bar
END:VEVENT
END:VCALENDAR
