BEGIN:VCALENDAR
VERSION:2.0
PRODID:-//Squarespace Inc/Squarespace 6//v6//EN
BEGIN:VEVENT
UID:589eeb5603596e1e0c980f10@squarespace.com
DTSTAMP:20170211T105535Z
DTSTART:20170302T090000Z
DTEND:20170302T100000Z
SUMMARY:505 Jazz Club
GEO:-33.889899;151.208485
LOCATION:505 Jazz Club\, 280 Cleveland Street\, Surry Hills\, NSW\, 2010\, 
 Australia
END:VEVENT
END:VCALENDAR
