BEGIN:VCALENDAR
VERSION:2.0
PRODID:-//Squarespace Inc/Squarespace 6//v6//EN
BEGIN:VEVENT
UID:5a113b2424a694409f9541e6@squarespace.com
DTSTAMP:20171119T080613Z
DTSTART:20171223T083000Z
DTEND:20171223T123000Z
SUMMARY:The Metro
GEO:-33.870206;151.206944
LOCATION:The Metro\, George Street\, Sydney\, NSW\, 2000\, Australia
END:VEVENT
END:VCALENDAR
