BEGIN:VCALENDAR
VERSION:2.0
PRODID:-//Squarespace Inc/Squarespace 6//v6//EN
BEGIN:VEVENT
UID:5a1139da53450af6e5c75dab@squarespace.com
DTSTAMP:20171123T053623Z
DTSTART:20171216T070000Z
DTEND:20171216T090000Z
SUMMARY:Street Food Markets
GEO:-33.901831;151.162451
LOCATION:Addison Road Community Centre\, Addison Road\, Marrickville\, NSW\
 , 2204\, Australia
END:VEVENT
END:VCALENDAR
