BEGIN:VCALENDAR
VERSION:2.0
PRODID:-//Squarespace Inc/Squarespace 6//v6//EN
BEGIN:VEVENT
UID:5a11337224a694409f94c936@squarespace.com
DTSTAMP:20171119T075902Z
DTSTART:20171125T100000Z
DTEND:20171125T133000Z
SUMMARY:The Townie
END:VEVENT
END:VCALENDAR
