BEGIN:VCALENDAR
VERSION:2.0
PRODID:-//Squarespace Inc/Squarespace 6//v6//EN
BEGIN:VEVENT
UID:571deec73c44d8df0b1e0d35@squarespace.com
DTSTAMP:20160621T130031Z
DTSTART:20160826T100000Z
DTEND:20160826T133000Z
SUMMARY:Django Bar
END:VEVENT
END:VCALENDAR
