BEGIN:VCALENDAR
VERSION:2.0
PRODID:-//Squarespace Inc/Squarespace 6//v6//EN
BEGIN:VEVENT
UID:56c5a7b64c2f852e2ff5e2b2@squarespace.com
DTSTAMP:20160218T111634Z
DTSTART:20160305T030000Z
DTEND:20160305T070000Z
SUMMARY:Canberra Reggae Festival
END:VEVENT
END:VCALENDAR
