BEGIN:VCALENDAR
VERSION:2.0
PRODID:-//Squarespace Inc/Squarespace 6//v6//EN
BEGIN:VEVENT
UID:56ec85e80442625503cb91dd@squarespace.com
DTSTAMP:20160318T225302Z
DTSTART:20160429T213000Z
DTEND:20160430T013000Z
SUMMARY:Avalon Bowling Club
END:VEVENT
END:VCALENDAR
