BEGIN:VCALENDAR
VERSION:2.0
PRODID:-//Squarespace Inc/Squarespace 6//v6//EN
BEGIN:VEVENT
UID:57cad17ccd0f686bb5d4d728@squarespace.com
DTSTAMP:20160903T133809Z
DTSTART:20161202T090000Z
DTEND:20161202T123000Z
SUMMARY:Django Bar
END:VEVENT
END:VCALENDAR
