BEGIN:VCALENDAR
VERSION:2.0
PRODID:-//Squarespace Inc/Squarespace 6//v6//EN
BEGIN:VEVENT
UID:5718177140261dad461d0862@squarespace.com
DTSTAMP:20160420T235746Z
DTSTART:20161218T080000Z
DTEND:20161218T110000Z
SUMMARY:The Townie
END:VEVENT
END:VCALENDAR
