BEGIN:VCALENDAR
VERSION:2.0
PRODID:-//Squarespace Inc/Squarespace 6//v6//EN
BEGIN:VEVENT
UID:57ee3b416a4963a32de60503@squarespace.com
DTSTAMP:20160930T102500Z
DTSTART:20161027T093000Z
DTEND:20161027T123000Z
SUMMARY:El Topo Basement
GEO:-33.891415;151.250815
LOCATION:El Topo Basement\, 500 Oxford Street\, Bondi Junction\, NSW\, 2022
 \, Australia
END:VEVENT
END:VCALENDAR
