BEGIN:VCALENDAR
VERSION:2.0
PRODID:-//Squarespace Inc/Squarespace 6//v6//EN
BEGIN:VEVENT
UID:571816e827d4bde899780b47@squarespace.com
DTSTAMP:20160420T235936Z
DTSTART:20161023T080000Z
DTEND:20161023T110000Z
SUMMARY:The Townie
END:VEVENT
END:VCALENDAR
