BEGIN:VCALENDAR
VERSION:2.0
PRODID:-//Squarespace Inc/Squarespace 6//v6//EN
BEGIN:VEVENT
UID:55a62c33e4b00c5f241d8f0d@squarespace.com
DTSTAMP:20150715T095838Z
DTSTART:20150808T100000Z
DTEND:20150808T130000Z
SUMMARY:Annandale Hotel
GEO:-33.887565;151.171527
LOCATION:Annandale Hotel\, 17 Parramatta Rd\, Annandale\, NSW\, 2038\, Aust
 ralia
END:VEVENT
END:VCALENDAR
