BEGIN:VCALENDAR
VERSION:2.0
PRODID:-//Squarespace Inc/Squarespace 6//v6//EN
BEGIN:VEVENT
UID:55d3d453e4b05b3ce7425243@squarespace.com
DTSTAMP:20150819T231046Z
DTSTART:20151021T090000Z
DTEND:20151021T120000Z
SUMMARY:Beats Eats & Drinks
END:VEVENT
END:VCALENDAR
