BEGIN:VCALENDAR
VERSION:2.0
PRODID:-//Squarespace Inc/Squarespace 6//v6//EN
BEGIN:VEVENT
UID:55587b4ae4b003c251025c02@squarespace.com
DTSTAMP:20150517T113532Z
DTSTART:20150814T120000Z
DTEND:20150814T160000Z
SUMMARY:The Townie
GEO:-33.898026;151.178741
LOCATION:The Townie\, 326 King Street\,\, Newtown\, NSW\, Australia
END:VEVENT
END:VCALENDAR
