BEGIN:VCALENDAR
VERSION:2.0
PRODID:-//Squarespace Inc/Squarespace 6//v6//EN
BEGIN:VEVENT
UID:558f9584e4b0475f86cabc86@squarespace.com
DTSTAMP:20150628T064400Z
DTSTART:20150731T100000Z
DTEND:20150731T133000Z
SUMMARY:The Record Crate with The Liberators and Baby Lips
END:VEVENT
END:VCALENDAR
