BEGIN:VCALENDAR
VERSION:2.0
PRODID:-//Squarespace Inc/Squarespace 6//v6//EN
BEGIN:VEVENT
UID:55928333e4b073643464a356@squarespace.com
DTSTAMP:20150630T121100Z
DTSTART:20151129T110000Z
DTEND:20151129T120000Z
SUMMARY:The Rhythm Hut
END:VEVENT
END:VCALENDAR
