BEGIN:VCALENDAR
VERSION:2.0
PRODID:-//Squarespace Inc/Squarespace 6//v6//EN
BEGIN:VEVENT
UID:555877aae4b01acf2bfb96b9@squarespace.com
DTSTAMP:20150517T112050Z
DTSTART:20150612T100000Z
DTEND:20150612T133000Z
SUMMARY:The Lewisham Hotel
GEO:-33.890158;151.146791
LOCATION:lewisham Hotel\, 794 Parramatta Rd\, Lewisham\, NSW\, 2049\, Austr
 alia
END:VEVENT
END:VCALENDAR
