BEGIN:VCALENDAR
VERSION:2.0
PRODID:-//Squarespace Inc/Squarespace 6//v6//EN
BEGIN:VEVENT
UID:54f58f33e4b094a70329c245@squarespace.com
DTSTAMP:20150303T104333Z
DTSTART:20150516T100000Z
DTEND:20150516T133000Z
SUMMARY:Django Bar @ Camelot
END:VEVENT
END:VCALENDAR
