BEGIN:VCALENDAR
VERSION:2.0
PRODID:-//Squarespace Inc/Squarespace 6//v6//EN
BEGIN:VEVENT
UID:54ec5687e4b0360a498c805a@squarespace.com
DTSTAMP:20150224T105500Z
DTSTART:20150327T110000Z
DTEND:20150327T120000Z
SUMMARY:Old Manly Boatshed
GEO:-33.798556;151.285925
LOCATION:Old Manly Boatshed\, 40 The Corso\, Manly\, NSW\, 2095\, Australia
END:VEVENT
END:VCALENDAR
