BEGIN:VCALENDAR
VERSION:2.0
PRODID:-//Squarespace Inc/Squarespace 6//v6//EN
BEGIN:VEVENT
UID:54e66c87e4b01dbc25054f37@squarespace.com
DTSTAMP:20150219T234235Z
DTSTART:20150320T093000Z
DTEND:20150320T123000Z
SUMMARY:Annandale Hotel
GEO:-33.887565;151.171527
LOCATION:Annandale Hotel\, 17 Parramatta Road\, Annandale\, Australia
END:VEVENT
END:VCALENDAR
