BEGIN:VCALENDAR
VERSION:2.0
PRODID:-//Squarespace Inc/Squarespace 6//v6//EN
BEGIN:VEVENT
UID:54e66369e4b0a4a224670376@squarespace.com
DTSTAMP:20150219T232033Z
DTSTART:20150314T003000Z
DTEND:20150314T053000Z
SUMMARY:Africultures Festival 2015
GEO:-33.84526;151.034663
LOCATION:Auburn Park\, Macquarie Rd\, Auburn\, NSW\, 2144\, Australia
END:VEVENT
END:VCALENDAR
