BEGIN:VCALENDAR
VERSION:2.0
PRODID:-//Squarespace Inc/Squarespace 6//v6//EN
BEGIN:VEVENT
UID:54ec53d2e4b0a4a2247f319f@squarespace.com
DTSTAMP:20150224T105014Z
DTSTART:20150322T073000Z
DTEND:20150322T103000Z
SUMMARY:Royal Oak Hotel\, Double Bay
GEO:-33.877114;151.241402
LOCATION:royal oak hotel\, 28 Bay St\, Double Bay\, NSW\, 2028\, Australia
END:VEVENT
END:VCALENDAR
