BEGIN:VCALENDAR
VERSION:2.0
PRODID:-//Squarespace Inc/Squarespace 6//v6//EN
BEGIN:VEVENT
UID:563dac09e4b0b4348403a959@squarespace.com
DTSTAMP:20151107T074955Z
DTSTART:20151227T080000Z
DTEND:20151227T110000Z
SUMMARY:The Townie
END:VEVENT
END:VCALENDAR
