BEGIN:VCALENDAR
VERSION:2.0
PRODID:-//Squarespace Inc/Squarespace 6//v6//EN
BEGIN:VEVENT
UID:55d93a8ce4b024523373c5bb@squarespace.com
DTSTAMP:20150823T031824Z
DTSTART:20151030T093000Z
DTEND:20151030T123000Z
SUMMARY:The Lewisham Hotel
GEO:-33.890158;151.146791
LOCATION:lewisham hotel\, 794 Parramatta Rd\, Lewisham\, NSW\, 2049\, Austr
 alia
END:VEVENT
END:VCALENDAR
