BEGIN:VCALENDAR
VERSION:2.0
PRODID:-//Squarespace Inc/Squarespace 6//v6//EN
BEGIN:VEVENT
UID:55cc6f0ee4b0161b9977d2eb@squarespace.com
DTSTAMP:20150819T230843Z
DTSTART:20151025T050000Z
DTEND:20151025T100000Z
SUMMARY:The Waterfront
END:VEVENT
END:VCALENDAR
